BEGIN:VCALENDAR
VERSION:2.0
PRODID:-//U of T - IRDG - ECPv6.5.1.4//NONSGML v1.0//EN
CALSCALE:GREGORIAN
METHOD:PUBLISH
X-ORIGINAL-URL:https://data.utoronto.ca
X-WR-CALDESC:Events for U of T - IRDG
REFRESH-INTERVAL;VALUE=DURATION:PT1H
X-Robots-Tag:noindex
X-PUBLISHED-TTL:PT1H
BEGIN:VTIMEZONE
TZID:America/Toronto
BEGIN:DAYLIGHT
TZOFFSETFROM:-0500
TZOFFSETTO:-0400
TZNAME:EDT
DTSTART:20240310T070000
END:DAYLIGHT
BEGIN:STANDARD
TZOFFSETFROM:-0400
TZOFFSETTO:-0500
TZNAME:EST
DTSTART:20241103T060000
END:STANDARD
BEGIN:DAYLIGHT
TZOFFSETFROM:-0500
TZOFFSETTO:-0400
TZNAME:EDT
DTSTART:20250309T070000
END:DAYLIGHT
BEGIN:STANDARD
TZOFFSETFROM:-0400
TZOFFSETTO:-0500
TZNAME:EST
DTSTART:20251102T060000
END:STANDARD
END:VTIMEZONE
BEGIN:VEVENT
DTSTART;VALUE=DATE:20250609
DTEND;VALUE=DATE:20251201
DTSTAMP:20260421T163500
CREATED:20250730T181515Z
LAST-MODIFIED:20250730T181515Z
UID:1126-1749427200-1764547199@data.utoronto.ca
SUMMARY:Ontario University Graduate Survey (OUGS) - 2022 Graduates
DESCRIPTION:See https://data.utoronto.ca/surveys/ for more survey information
URL:https://data.utoronto.ca/survey/ougs-2022-graduates/
END:VEVENT
BEGIN:VEVENT
DTSTART;VALUE=DATE:20250201
DTEND;VALUE=DATE:20250501
DTSTAMP:20260421T163500
CREATED:20240618T175401Z
LAST-MODIFIED:20240725T191259Z
UID:848-1738368000-1746057599@data.utoronto.ca
SUMMARY:Canadian Graduate and Professional Student Survey (CGPSS) [Exact dates TBD]
DESCRIPTION:
URL:https://data.utoronto.ca/survey/cgpss-2025/
END:VEVENT
BEGIN:VEVENT
DTSTART;VALUE=DATE:20250201
DTEND;VALUE=DATE:20250401
DTSTAMP:20260421T163500
CREATED:20240531T153758Z
LAST-MODIFIED:20240725T191351Z
UID:599-1738368000-1743465599@data.utoronto.ca
SUMMARY:Canadian Campus Wellbeing Survey (CCWS) [Exact dates TBD]
DESCRIPTION:
URL:https://data.utoronto.ca/survey/ccws-2025/
END:VEVENT
BEGIN:VEVENT
DTSTART;VALUE=DATE:20241101
DTEND;VALUE=DATE:20250401
DTSTAMP:20260421T163500
CREATED:20240530T182400Z
LAST-MODIFIED:20240725T191315Z
UID:594-1730419200-1743465599@data.utoronto.ca
SUMMARY:Ontario University Graduate Survey (OUGS) [Exact dates TBD]
DESCRIPTION:Target population: Undergraduate alumni (2 years after graduation)
URL:https://data.utoronto.ca/survey/ougs-2024/
END:VEVENT
BEGIN:VEVENT
DTSTART;VALUE=DATE:20241014
DTEND;VALUE=DATE:20241105
DTSTAMP:20260421T163500
CREATED:20240725T190813Z
LAST-MODIFIED:20240912T194956Z
UID:1017-1728864000-1730764799@data.utoronto.ca
SUMMARY:U of T Student Communications Study
DESCRIPTION:The U of T Communications Study aims to gain a better understanding of U of T’s student-facing mass communication delivered via email. This survey is one component of the study and will measure volume\, origin\, frequency\, methods\, effectiveness and student preferences for in-year mass email communications from U of T sources. The survey will be sent to a random sample of undergraduate and graduate students on all three campuses. The survey is sponsored by University of Toronto Communications\, The School of Graduate Studies and the Office of the Vice-Provost\, Students. 
URL:https://data.utoronto.ca/survey/u-of-t-student-communications-study/
END:VEVENT
BEGIN:VEVENT
DTSTART;VALUE=DATE:20240926
DTEND;VALUE=DATE:20241014
DTSTAMP:20260421T163500
CREATED:20240924T172723Z
LAST-MODIFIED:20240924T172723Z
UID:1037-1727308800-1728863999@data.utoronto.ca
SUMMARY:U of T Housing Survey
DESCRIPTION:U of T Housing Survey will be administered from Thursday\, September 26 to Sunday\, October 13. Undergraduate and Graduate students from St. George campus will be surveyed (not all – randomly selected half).
URL:https://data.utoronto.ca/survey/u-of-t-housing-survey/
END:VEVENT
BEGIN:VEVENT
DTSTART;VALUE=DATE:20240717
DTEND;VALUE=DATE:20240914
DTSTAMP:20260421T163500
CREATED:20240808T143858Z
LAST-MODIFIED:20240808T143921Z
UID:1028-1721174400-1726271999@data.utoronto.ca
SUMMARY:Beginning College Survey of Student Engagement (BCSSE)
DESCRIPTION:Surveyed Population: UTM and UTSC direct entry undergraduate students and transfer mature students
URL:https://data.utoronto.ca/survey/beginning-college-survey-of-student-engagement-bcsse/
END:VEVENT
END:VCALENDAR