BEGIN:VCALENDAR
VERSION:2.0
PRODID:-//U of T - IRDG - ECPv6.5.1.4//NONSGML v1.0//EN
CALSCALE:GREGORIAN
METHOD:PUBLISH
X-ORIGINAL-URL:https://data.utoronto.ca
X-WR-CALDESC:Events for U of T - IRDG
REFRESH-INTERVAL;VALUE=DURATION:PT1H
X-Robots-Tag:noindex
X-PUBLISHED-TTL:PT1H
BEGIN:VTIMEZONE
TZID:America/Toronto
BEGIN:DAYLIGHT
TZOFFSETFROM:-0500
TZOFFSETTO:-0400
TZNAME:EDT
DTSTART:20260308T070000
END:DAYLIGHT
BEGIN:STANDARD
TZOFFSETFROM:-0400
TZOFFSETTO:-0500
TZNAME:EST
DTSTART:20261101T060000
END:STANDARD
END:VTIMEZONE
BEGIN:VEVENT
DTSTART;VALUE=DATE:20260223
DTEND;VALUE=DATE:20260512
DTSTAMP:20260419T181251
CREATED:20250730T181921Z
LAST-MODIFIED:20251217T200833Z
UID:1130-1771804800-1778543999@data.utoronto.ca
SUMMARY:National Survey of Student Engagement (NSSE) 2026
DESCRIPTION:See https://data.utoronto.ca/surveys/ for more survey information
URL:https://data.utoronto.ca/survey/nsse-2026/
END:VEVENT
BEGIN:VEVENT
DTSTART;VALUE=DATE:20260310
DTEND;VALUE=DATE:20260506
DTSTAMP:20260419T181251
CREATED:20251217T201243Z
LAST-MODIFIED:20251217T201243Z
UID:1151-1773100800-1778025599@data.utoronto.ca
SUMMARY:Graduate Student Experience in the Research University (gradSERU) 2026
DESCRIPTION:See https://data.utoronto.ca/surveys/ for more survey information
URL:https://data.utoronto.ca/survey/gradseru-2026/
END:VEVENT
END:VCALENDAR